BEGIN:VCALENDAR
PRODID:-//github.com/rianjs/ical.net//NONSGML ical.net 4.0//EN
VERSION:2.0
BEGIN:VEVENT
DESCRIPTION:Kristi Himmelfartsdag
DTEND:20270506T000000
DTSTAMP:20260421T103202Z
DTSTART:20270506T000000
SEQUENCE:0
SUMMARY:Kristi Himmelfartsdag
UID:9f1416ce-483a-4fa8-8331-e925e7601201
END:VEVENT
END:VCALENDAR
