BEGIN:VCALENDAR
PRODID:-//github.com/rianjs/ical.net//NONSGML ical.net 4.0//EN
VERSION:2.0
BEGIN:VEVENT
DESCRIPTION:Grunnlovsdag/2. pinsedag
DTEND:20270517T000000
DTSTAMP:20260421T103202Z
DTSTART:20270517T000000
SEQUENCE:0
SUMMARY:Grunnlovsdag/2. pinsedag
UID:57f4341f-eb29-445b-a313-56a43eeb2c38
END:VEVENT
END:VCALENDAR
