BEGIN:VCALENDAR
PRODID:-//github.com/rianjs/ical.net//NONSGML ical.net 4.0//EN
VERSION:2.0
BEGIN:VEVENT
DESCRIPTION:Avslutning Vg2 yrkesfag
DTEND:20260616T200000
DTSTAMP:20260421T102837Z
DTSTART:20260616T180000
SEQUENCE:0
SUMMARY:Avslutning Vg2 yrkesfag
UID:d01cb138-8f42-446a-8ba8-41dd0090bf8b
END:VEVENT
END:VCALENDAR
