BEGIN:VCALENDAR
PRODID:-//github.com/rianjs/ical.net//NONSGML ical.net 4.0//EN
VERSION:2.0
BEGIN:VEVENT
DESCRIPTION:Avslutning for Vg3 i Konserthuset onsdag 17. juni kl. 18.00
DTEND:20260617T200000
DTSTAMP:20260421T102739Z
DTSTART:20260617T180000
SEQUENCE:0
SUMMARY:Avslutning for Vg3 i Konserthuset onsdag 17. juni kl. 18.00
UID:7340d0aa-b5fe-4e72-bcbc-5e96ab7b706e
END:VEVENT
END:VCALENDAR
